BEGIN:VCALENDAR
VERSION:2.0
PRODID:-//H2O Designs - ECPv6.15.20//NONSGML v1.0//EN
CALSCALE:GREGORIAN
METHOD:PUBLISH
X-WR-CALNAME:H2O Designs
X-ORIGINAL-URL:https://h2odesigns.co.uk
X-WR-CALDESC:Events for H2O Designs
REFRESH-INTERVAL;VALUE=DURATION:PT1H
X-Robots-Tag:noindex
X-PUBLISHED-TTL:PT1H
BEGIN:VTIMEZONE
TZID:Europe/London
BEGIN:DAYLIGHT
TZOFFSETFROM:+0000
TZOFFSETTO:+0100
TZNAME:BST
DTSTART:20200329T010000
END:DAYLIGHT
BEGIN:STANDARD
TZOFFSETFROM:+0100
TZOFFSETTO:+0000
TZNAME:GMT
DTSTART:20201025T010000
END:STANDARD
BEGIN:DAYLIGHT
TZOFFSETFROM:+0000
TZOFFSETTO:+0100
TZNAME:BST
DTSTART:20210328T010000
END:DAYLIGHT
BEGIN:STANDARD
TZOFFSETFROM:+0100
TZOFFSETTO:+0000
TZNAME:GMT
DTSTART:20211031T010000
END:STANDARD
BEGIN:DAYLIGHT
TZOFFSETFROM:+0000
TZOFFSETTO:+0100
TZNAME:BST
DTSTART:20220327T010000
END:DAYLIGHT
BEGIN:STANDARD
TZOFFSETFROM:+0100
TZOFFSETTO:+0000
TZNAME:GMT
DTSTART:20221030T010000
END:STANDARD
END:VTIMEZONE
BEGIN:VEVENT
DTSTART;TZID=Europe/London:20210320T080000
DTEND;TZID=Europe/London:20210331T170000
DTSTAMP:20260420T020645
CREATED:20210208T170208Z
LAST-MODIFIED:20210212T182607Z
UID:960-1616227200-1617210000@h2odesigns.co.uk
SUMMARY:Exhibition - collective works from Epilepsy Surgery Friends
DESCRIPTION:A collection of artwork to raise awareness of epilepsy \nTo take part visit: support@epilepsysurgeryfriends.co.uk
URL:https://h2odesigns.co.uk/event/esf/
LOCATION:Online
END:VEVENT
BEGIN:VEVENT
DTSTART;TZID=Europe/London:20210306T100000
DTEND;TZID=Europe/London:20210319T170000
DTSTAMP:20260420T020645
CREATED:20210208T173324Z
LAST-MODIFIED:20210307T145546Z
UID:972-1615024800-1616173200@h2odesigns.co.uk
SUMMARY:Abstract and Neurographics Exhibition
DESCRIPTION:An exhibition featuring some of my neurographic and abstract work. \nRead the stories behind the artwork here \nVisit full exhibition
URL:https://h2odesigns.co.uk/event/abstract-and-neurographics-exhibition/
LOCATION:Online
END:VEVENT
BEGIN:VEVENT
DTSTART;TZID=Europe/London:20210208T080000
DTEND;TZID=Europe/London:20210221T170000
DTSTAMP:20260420T020645
CREATED:20210208T172608Z
LAST-MODIFIED:20210212T182441Z
UID:970-1612771200-1613926800@h2odesigns.co.uk
SUMMARY:On the beach - mini-exhibition
DESCRIPTION:Take a look at some of my latest beach paintings. Visit the shop to buy artwork.
URL:https://h2odesigns.co.uk/event/on-the-beach-mini-exhibition/
LOCATION:Online
END:VEVENT
END:VCALENDAR