BEGIN:VCALENDAR
VERSION:2.0
PRODID:-//H2O Designs - ECPv6.15.20//NONSGML v1.0//EN
CALSCALE:GREGORIAN
METHOD:PUBLISH
X-ORIGINAL-URL:https://h2odesigns.co.uk
X-WR-CALDESC:Events for H2O Designs
REFRESH-INTERVAL;VALUE=DURATION:PT1H
X-Robots-Tag:noindex
X-PUBLISHED-TTL:PT1H
BEGIN:VTIMEZONE
TZID:Europe/London
BEGIN:DAYLIGHT
TZOFFSETFROM:+0000
TZOFFSETTO:+0100
TZNAME:BST
DTSTART:20220327T010000
END:DAYLIGHT
BEGIN:STANDARD
TZOFFSETFROM:+0100
TZOFFSETTO:+0000
TZNAME:GMT
DTSTART:20221030T010000
END:STANDARD
BEGIN:DAYLIGHT
TZOFFSETFROM:+0000
TZOFFSETTO:+0100
TZNAME:BST
DTSTART:20230326T010000
END:DAYLIGHT
BEGIN:STANDARD
TZOFFSETFROM:+0100
TZOFFSETTO:+0000
TZNAME:GMT
DTSTART:20231029T010000
END:STANDARD
BEGIN:DAYLIGHT
TZOFFSETFROM:+0000
TZOFFSETTO:+0100
TZNAME:BST
DTSTART:20240331T010000
END:DAYLIGHT
BEGIN:STANDARD
TZOFFSETFROM:+0100
TZOFFSETTO:+0000
TZNAME:GMT
DTSTART:20241027T010000
END:STANDARD
BEGIN:DAYLIGHT
TZOFFSETFROM:+0000
TZOFFSETTO:+0100
TZNAME:BST
DTSTART:20250330T010000
END:DAYLIGHT
BEGIN:STANDARD
TZOFFSETFROM:+0100
TZOFFSETTO:+0000
TZNAME:GMT
DTSTART:20251026T010000
END:STANDARD
BEGIN:DAYLIGHT
TZOFFSETFROM:+0000
TZOFFSETTO:+0100
TZNAME:BST
DTSTART:20260329T010000
END:DAYLIGHT
BEGIN:STANDARD
TZOFFSETFROM:+0100
TZOFFSETTO:+0000
TZNAME:GMT
DTSTART:20261025T010000
END:STANDARD
BEGIN:DAYLIGHT
TZOFFSETFROM:+0000
TZOFFSETTO:+0100
TZNAME:BST
DTSTART:20270328T010000
END:DAYLIGHT
BEGIN:STANDARD
TZOFFSETFROM:+0100
TZOFFSETTO:+0000
TZNAME:GMT
DTSTART:20271031T010000
END:STANDARD
END:VTIMEZONE
BEGIN:VEVENT
DTSTART;TZID=Europe/London:20230301T080000
DTEND;TZID=Europe/London:20230331T170000
DTSTAMP:20260419T202848
CREATED:20220919T004951Z
LAST-MODIFIED:20230304T204749Z
UID:1616-1677657600-1680282000@h2odesigns.co.uk
SUMMARY:Life - Exhibition at Anstruther
DESCRIPTION:
URL:https://h2odesigns.co.uk/event/life-exhibition-at-anstruther/
LOCATION:Scottish Fisheries Museum
END:VEVENT
BEGIN:VEVENT
DTSTART;TZID=Europe/London:20230311T100000
DTEND;TZID=Europe/London:20230311T130000
DTSTAMP:20260419T202848
CREATED:20230304T205527Z
LAST-MODIFIED:20230304T205527Z
UID:1704-1678528800-1678539600@h2odesigns.co.uk
SUMMARY:Lochgilphead Farmer's Market
DESCRIPTION:
URL:https://h2odesigns.co.uk/event/lochgilphead-farmers-market-9/
LOCATION:Lochgilphead Coop\, Lochgilphead Coop\, Lochgilphead\, Argyll and Bute
END:VEVENT
BEGIN:VEVENT
DTSTART;TZID=Europe/London:20230325T100000
DTEND;TZID=Europe/London:20230325T170000
DTSTAMP:20260419T202848
CREATED:20230304T205644Z
LAST-MODIFIED:20230304T205644Z
UID:1706-1679738400-1679763600@h2odesigns.co.uk
SUMMARY:Ormsary Clay Pigeon Shoot and Craft Market
DESCRIPTION:
URL:https://h2odesigns.co.uk/event/ormsary-clay-pigeon-shoot-and-craft-market/
END:VEVENT
BEGIN:VEVENT
DTSTART;TZID=Europe/London:20230601T080000
DTEND;TZID=Europe/London:20230630T170000
DTSTAMP:20260419T202848
CREATED:20230304T205809Z
LAST-MODIFIED:20230304T205809Z
UID:1708-1685606400-1688144400@h2odesigns.co.uk
SUMMARY:Art Exhibition at The Gather
DESCRIPTION:
URL:https://h2odesigns.co.uk/event/art-exhibition-at-the-gather/
LOCATION:The Gather\, Tarbert
END:VEVENT
BEGIN:VEVENT
DTSTART;TZID=Europe/London:20230819T090000
DTEND;TZID=Europe/London:20230828T170000
DTSTAMP:20260419T202848
CREATED:20230304T210329Z
LAST-MODIFIED:20230304T210329Z
UID:1710-1692435600-1693242000@h2odesigns.co.uk
SUMMARY:Artmap Argyll Open Studios
DESCRIPTION:
URL:https://h2odesigns.co.uk/event/artmap-argyll-open-studios/
LOCATION:Ardrishaig Public Hall
END:VEVENT
BEGIN:VEVENT
DTSTART;TZID=Europe/London:20240402T080000
DTEND;TZID=Europe/London:20240430T170000
DTSTAMP:20260419T202848
CREATED:20240106T204944Z
LAST-MODIFIED:20240322T230521Z
UID:1885-1712044800-1714496400@h2odesigns.co.uk
SUMMARY:The Eclectic Collection
DESCRIPTION:
URL:https://h2odesigns.co.uk/event/the-eclectic-collection/
LOCATION:Scottish Fisheries Museum
ATTACH;FMTTYPE=image/jpeg:https://h2odesigns.co.uk/wp-content/uploads/2024/03/IMG_20240225_161136_0782-scaled.jpg
END:VEVENT
BEGIN:VEVENT
DTSTART;TZID=Europe/London:20240817T100000
DTEND;TZID=Europe/London:20240826T170000
DTSTAMP:20260419T202849
CREATED:20240106T205144Z
LAST-MODIFIED:20240106T205144Z
UID:1887-1723888800-1724691600@h2odesigns.co.uk
SUMMARY:Artmap Argyll Open Studios
DESCRIPTION:
URL:https://h2odesigns.co.uk/event/artmap-argyll-open-studios-2/
LOCATION:Ardrishaig Public Hall
END:VEVENT
BEGIN:VEVENT
DTSTART;TZID=Europe/London:20250315T100000
DTEND;TZID=Europe/London:20250315T150000
DTSTAMP:20260419T202849
CREATED:20250228T211231Z
LAST-MODIFIED:20250228T211231Z
UID:2277-1742032800-1742050800@h2odesigns.co.uk
SUMMARY:Nimble Finger's Craft Market
DESCRIPTION:
URL:https://h2odesigns.co.uk/event/nimble-fingers-craft-market/
LOCATION:Campbeltown Town Hall
END:VEVENT
BEGIN:VEVENT
DTSTART;TZID=Europe/London:20250323T100000
DTEND;TZID=Europe/London:20250323T160000
DTSTAMP:20260419T202849
CREATED:20250228T211344Z
LAST-MODIFIED:20250228T211344Z
UID:2280-1742724000-1742745600@h2odesigns.co.uk
SUMMARY:Love Oban Farmer's Market
DESCRIPTION:
URL:https://h2odesigns.co.uk/event/love-oban-farmers-market/
LOCATION:Corran Halls Oban
END:VEVENT
BEGIN:VEVENT
DTSTART;TZID=Europe/London:20250405T100000
DTEND;TZID=Europe/London:20250405T130000
DTSTAMP:20260419T202849
CREATED:20250228T211508Z
LAST-MODIFIED:20250228T211508Z
UID:2283-1743847200-1743858000@h2odesigns.co.uk
SUMMARY:Campbeltown Farmer's Market
DESCRIPTION:
URL:https://h2odesigns.co.uk/event/campbeltown-farmers-market/
END:VEVENT
BEGIN:VEVENT
DTSTART;TZID=Europe/London:20250419T100000
DTEND;TZID=Europe/London:20250419T140000
DTSTAMP:20260419T202849
CREATED:20250228T211724Z
LAST-MODIFIED:20250228T211724Z
UID:2285-1745056800-1745071200@h2odesigns.co.uk
SUMMARY:Inveraray Pier Market
DESCRIPTION:
URL:https://h2odesigns.co.uk/event/inveraray-pier-market/
LOCATION:Inveraray Pier
END:VEVENT
BEGIN:VEVENT
DTSTART;VALUE=DATE:20250607
DTEND;VALUE=DATE:20250608
DTSTAMP:20260419T202849
CREATED:20250511T183532Z
LAST-MODIFIED:20250511T183532Z
UID:2289-1749254400-1749340799@h2odesigns.co.uk
SUMMARY:Paintings on Railings
DESCRIPTION:
URL:https://h2odesigns.co.uk/event/paintings-on-railings/
END:VEVENT
BEGIN:VEVENT
DTSTART;TZID=Europe/London:20250816T100000
DTEND;TZID=Europe/London:20250825T170000
DTSTAMP:20260419T202849
CREATED:20250218T194605Z
LAST-MODIFIED:20250218T194605Z
UID:2253-1755338400-1756141200@h2odesigns.co.uk
SUMMARY:Artmap Argyll
DESCRIPTION:
URL:https://h2odesigns.co.uk/event/artmap-argyll-2/
LOCATION:The Grading Hall\, Ardrishaig
END:VEVENT
BEGIN:VEVENT
DTSTART;TZID=Europe/London:20250901T080000
DTEND;TZID=Europe/London:20251231T170000
DTSTAMP:20260419T202849
CREATED:20241228T132257Z
LAST-MODIFIED:20250228T090757Z
UID:2177-1756713600-1767200400@h2odesigns.co.uk
SUMMARY:Exhibition at Tin Roof Diner
DESCRIPTION:
URL:https://h2odesigns.co.uk/event/exhibition-at-tin-roof-diner/
LOCATION:Tin Roof Diner\, Campbeltown
END:VEVENT
BEGIN:VEVENT
DTSTART;TZID=Europe/London:20260509T100000
DTEND;TZID=Europe/London:20260704T170000
DTSTAMP:20260419T202849
CREATED:20260419T110525Z
LAST-MODIFIED:20260419T110525Z
UID:2344-1778320800-1783184400@h2odesigns.co.uk
SUMMARY:Journey to the Islands Collective Exhibition
DESCRIPTION:
URL:https://h2odesigns.co.uk/event/journey-to-the-islands-collective-exhibition/
LOCATION:Macgregor Fine Art\, 166 Hope Street\, Glasgow\, G2 2TJ
END:VEVENT
END:VCALENDAR